BEGIN:VCALENDAR
VERSION:2.0
PRODID:-//CEO Insights Executive Group - ECPv6.15.11//NONSGML v1.0//EN
CALSCALE:GREGORIAN
METHOD:PUBLISH
X-WR-CALNAME:CEO Insights Executive Group
X-ORIGINAL-URL:https://ceoinsights.org
X-WR-CALDESC:Events for CEO Insights Executive Group
REFRESH-INTERVAL;VALUE=DURATION:PT1H
X-Robots-Tag:noindex
X-PUBLISHED-TTL:PT1H
BEGIN:VTIMEZONE
TZID:Asia/Tokyo
BEGIN:STANDARD
TZOFFSETFROM:+0900
TZOFFSETTO:+0900
TZNAME:JST
DTSTART:20180101T000000
END:STANDARD
END:VTIMEZONE
BEGIN:VEVENT
DTSTART;TZID=Asia/Tokyo:20190809T123000
DTEND;TZID=Asia/Tokyo:20190809T140000
DTSTAMP:20260422T045029
CREATED:20190108T012700Z
LAST-MODIFIED:20190730T012234Z
UID:10000470-1565353800-1565359200@ceoinsights.org
SUMMARY:2019 Aug CEO Round Table (C28)
DESCRIPTION:Most of this year we’ve had some excellent speakers and topics that we have developed regarding marketing\, legal\, human resources\, and other areas of interest for the CEO and the c-level. In August\, we’ll do something a bit different.  We’ll be having our members only Round Table.  Round table means we’ll have a list of significant topics\, issues\, and upcoming market changes to discuss where we’ll gain insights from each other on the latest information.  In the August CEO Insights lunch\, we plan (but are not) limited to discuss \n\nThe latest of the Tokyo Olympics in 2020\, less that a year away!\nPredictions for the next rise in consumption tax and it’s affect on the economy as well as our clients in consumer and corporate spending\nJKC!  (Japan\, China\, and Korea) What is on the horizon for trade in North Asia and greater Asia?  Will we see another Tiananmen Square in Hong Kong?  Will they get away with claiming remote islands in other territories?  Will Korea and Japan ever figure out their differences?\n\nJoin us for an unparalleled chance of getting insights for other industry c-levels \n\n\nDate: 9 August 2019 (Friday) \nTime: 12:30pm to 2:00pm \nVenue: Roppongi Hills Club – the horizon room \n51F Roppongi Hills Mori Tower\, 6-10-1 Roppongi Minato-ku\, 106-6151 \n\n\n\n 
URL:https://ceoinsights.org/event/2019-aug-c28/
END:VEVENT
END:VCALENDAR