BEGIN:VCALENDAR
VERSION:2.0
PRODID:-//CEO Insights Executive Group - ECPv6.15.11//NONSGML v1.0//EN
CALSCALE:GREGORIAN
METHOD:PUBLISH
X-ORIGINAL-URL:https://ceoinsights.org
X-WR-CALDESC:Events for CEO Insights Executive Group
REFRESH-INTERVAL;VALUE=DURATION:PT1H
X-Robots-Tag:noindex
X-PUBLISHED-TTL:PT1H
BEGIN:VTIMEZONE
TZID:Asia/Tokyo
BEGIN:STANDARD
TZOFFSETFROM:+0900
TZOFFSETTO:+0900
TZNAME:JST
DTSTART:20220101T000000
END:STANDARD
END:VTIMEZONE
BEGIN:VEVENT
DTSTART;TZID=Asia/Tokyo:20230509T123000
DTEND;TZID=Asia/Tokyo:20230509T140000
DTSTAMP:20260425T014610
CREATED:20230410T013418Z
LAST-MODIFIED:20230501T033346Z
UID:10000557-1683635400-1683640800@ceoinsights.org
SUMMARY:Cultivating a Culture of Well-Being: Insights for CEOs in Japan
DESCRIPTION:The May CEO Insights event will be focused on creating a happy and healthy work environment for teams\, especially in light of Japan’s high suicide rate\, often linked to stressful working conditions. With the added challenges of the ongoing pandemic\, including remote work and social isolation\, it’s more important than ever to prioritize mental health and well-being in the workplace. \nWe are excited to feature two excellent guest speakers who will share their insights and expertise. Maria Shimamura\, a TED speaker\, will discuss the cultural differences in physical touch and how it affects happiness in Japan. Vickie Skorji\, the Director of TELL (Tokyo English Life Line)\, will talk about building confidence and improving mental health among Japan’s residents. \nThe event promises to equip attendees with practical strategies to create a positive and productive work environment that promotes well-being and team building. By leveraging the knowledge and expertise of our guest speakers\, we hope to inspire business leaders to create “the happiest company on earth.”
URL:https://ceoinsights.org/event/cultivating-a-culture-of-well-being-insights-for-ceos-in-japan/
LOCATION:Roppongi Hills Club – Restaurants\, 51F Roppongi Hills Mori Tower\, 6-10-1 Roppongi\, Minato-ku\, Tokyo\, 106-6151\, Japan
ATTACH;FMTTYPE=image/jpeg:https://ceoinsights.org/wp-content/uploads/2023/04/happy-birthday-balloons-lt.jpeg
END:VEVENT
END:VCALENDAR