BEGIN:VCALENDAR
VERSION:2.0
PRODID:-//CEO Insights Executive Group - ECPv6.15.11//NONSGML v1.0//EN
CALSCALE:GREGORIAN
METHOD:PUBLISH
X-WR-CALNAME:CEO Insights Executive Group
X-ORIGINAL-URL:https://ceoinsights.org
X-WR-CALDESC:Events for CEO Insights Executive Group
REFRESH-INTERVAL;VALUE=DURATION:PT1H
X-Robots-Tag:noindex
X-PUBLISHED-TTL:PT1H
BEGIN:VTIMEZONE
TZID:Asia/Tokyo
BEGIN:STANDARD
TZOFFSETFROM:+0900
TZOFFSETTO:+0900
TZNAME:JST
DTSTART:20220101T000000
END:STANDARD
END:VTIMEZONE
BEGIN:VEVENT
DTSTART;TZID=Asia/Tokyo:20231208T123000
DTEND;TZID=Asia/Tokyo:20231208T130000
DTSTAMP:20260424T200240
CREATED:20231026T035618Z
LAST-MODIFIED:20231122T010336Z
UID:10000568-1702038600-1702040400@ceoinsights.org
SUMMARY:Year End Wrap Up- Better Boss\, Better Business
DESCRIPTION:As yet another year closes\, many executive offices are reviewing what worked and what didn’t\, what sold and what didn’t\, what blew up and what overflowed. In addition to national responsibility\, many of our member CEOs have other countries in Asia as well as Australia/New Zealand reporting to them. Growth is about reflecting on management mistakes as well as building management successes.  We are taking our businesses and our leadership to the next Level \nThe December CEO Insights meeting is one of the most popular and well attended meetings as executives get ready for the Christmas holidays and year’s end. This will be likely be your last chance to rub elbows with Asia’s top Tokyo-based CEOs and leadership.
URL:https://ceoinsights.org/event/year-end-wrap-up-better-boss-better-business/
LOCATION:The Oak Door Steakhouse\, 6th Floor Grand Hyatt Tokyo\, 6-10-3 Roppongi\, Minato\, Tokyo\, 106-0032\, Japan
END:VEVENT
END:VCALENDAR