BEGIN:VCALENDAR
VERSION:2.0
PRODID:-//CEO Insights Executive Group - ECPv6.15.11//NONSGML v1.0//EN
CALSCALE:GREGORIAN
METHOD:PUBLISH
X-ORIGINAL-URL:https://ceoinsights.org
X-WR-CALDESC:Events for CEO Insights Executive Group
REFRESH-INTERVAL;VALUE=DURATION:PT1H
X-Robots-Tag:noindex
X-PUBLISHED-TTL:PT1H
BEGIN:VTIMEZONE
TZID:Asia/Tokyo
BEGIN:STANDARD
TZOFFSETFROM:+0900
TZOFFSETTO:+0900
TZNAME:JST
DTSTART:20230101T000000
END:STANDARD
END:VTIMEZONE
BEGIN:VEVENT
DTSTART;TZID=Asia/Tokyo:20240215T180000
DTEND;TZID=Asia/Tokyo:20240215T200000
DTSTAMP:20260421T145053
CREATED:20231226T043612Z
LAST-MODIFIED:20231228T043622Z
UID:10000583-1708020000-1708027200@ceoinsights.org
SUMMARY:Riedel Wine Glass Experience (Food and Drink)
DESCRIPTION:At 6PM on Thursday\, 15 Feb we will have the chance to participate in an unforgettable wine tasting experience hosted by Riedel Japan’s CEO.\nWe will discover the secrets of wine appreciation in a whole new way.We will be tasting the same wine in different glasses\, and discover how the aroma and taste of the wine can change depending on the shape of the glass. This is a unique opportunity to explore the fascinating world of wine tasting and take your senses on a journey through various flavor nuances.\nWe will also get a chance to connect with CI members (as well as some guest CEOs)\, you will also enjoy some excellent food and drink at Riedel’s Aoyama showroom and new in-store bar.\nSpace is limited so sign up immediately if you plan to attend. Priority to CI members.\nWe look forward to seeing you there! \nDate: Thursday\,15 Feb 2024\nTime: 18:00 to 20:00PM\nCost: ¥10\,000 Payment At Showroom\nCancellation: After 5PM\,9 Feb will be charged
URL:https://ceoinsights.org/event/riedel-wine-glass-experience-food-and-drink/
LOCATION:RIEDEL JAPAN Co.\, Ltd.\, Aoyama Twin Tower (East) 1-1-1 Minami-Aoyama\, Minato-ku\, Tokyo\, 107-0062\, Japan
END:VEVENT
END:VCALENDAR