BEGIN:VCALENDAR
VERSION:2.0
PRODID:-//CEO Insights Executive Group - ECPv6.15.11//NONSGML v1.0//EN
CALSCALE:GREGORIAN
METHOD:PUBLISH
X-ORIGINAL-URL:https://ceoinsights.org
X-WR-CALDESC:Events for CEO Insights Executive Group
REFRESH-INTERVAL;VALUE=DURATION:PT1H
X-Robots-Tag:noindex
X-PUBLISHED-TTL:PT1H
BEGIN:VTIMEZONE
TZID:Asia/Tokyo
BEGIN:STANDARD
TZOFFSETFROM:+0900
TZOFFSETTO:+0900
TZNAME:JST
DTSTART:20230101T000000
END:STANDARD
END:VTIMEZONE
BEGIN:VEVENT
DTSTART;TZID=Asia/Tokyo:20240314T123000
DTEND;TZID=Asia/Tokyo:20240314T143000
DTSTAMP:20260421T074451
CREATED:20231208T073151Z
LAST-MODIFIED:20240301T001341Z
UID:10000572-1710419400-1710426600@ceoinsights.org
SUMMARY:Developing A High Performance Team In A Challenging Market
DESCRIPTION: As a CEO\, your ongoing challenge is not just managing resources but maximizing human potential. How do we cultivate high-performance teams\, engage effectively\, ensure collaborative success across all business units\, and reward their achievements? These are questions that every leader faces\, especially in today‘s demanding market. \n Join us this March at “CEO Insights” for an interactive session aimed at fostering a culture of performance within your company. We’re excited to welcome Ken Cogger of Nikko Asset Management and Raul Gumagay of HSBC\, who will unveil strategies for leveraging HR challenges into strategic opportunities for your business. Learn what your HR should be doing to directly enhance team performance and ensure your company’s success. \n  \n\nMore About- Mr. Gumagay     \n \nMr. Gumagay is a strategic Human Resources professional with broad experience in the design\, review\, development\, implementation\, governance and management of the firm’s people and organization strategy and objective in alignment with the business strategies. Has held both local and regional HR management and leadership responsibility including staff recruitment\, performance management\, reward\, HR systems\, HR service delivery\, learning\, and talent development.  \nMore About Mr. Cogger     \n \nHead of HR\, International at Nikko Asset Management\, boasts over 25 years in HR\,  has senior HR experience across Japan\, Australia\, and New Zealand. At Nikko AM\, Ken has driven performance management and talent development\, significantly enhancing engagement and performance. He’s been pivotal in the firm’s global transformation\, contributing to its evolution from a domestic focus to an international presence with a diverse client base. A certified executive coach fluent in four languages\, including Japanese\, Ken also chairs the HR committee at the Tokyo American Club. \n\n 
URL:https://ceoinsights.org/event/march-ci-network-lunch/
LOCATION:Roppongi Hills Club- Roppongi Hills Club- Italian Restaurant- La Cucina\, 51 fl. Roppongi Hills Mori Tower\, 6-10-1 Roppongi\, Minato-ku\, Tokyo\, 106-6151
END:VEVENT
END:VCALENDAR