BEGIN:VCALENDAR
VERSION:2.0
PRODID:-//CEO Insights Executive Group - ECPv6.15.11//NONSGML v1.0//EN
CALSCALE:GREGORIAN
METHOD:PUBLISH
X-WR-CALNAME:CEO Insights Executive Group
X-ORIGINAL-URL:https://ceoinsights.org
X-WR-CALDESC:Events for CEO Insights Executive Group
REFRESH-INTERVAL;VALUE=DURATION:PT1H
X-Robots-Tag:noindex
X-PUBLISHED-TTL:PT1H
BEGIN:VTIMEZONE
TZID:Asia/Tokyo
BEGIN:STANDARD
TZOFFSETFROM:+0900
TZOFFSETTO:+0900
TZNAME:JST
DTSTART:20230101T000000
END:STANDARD
END:VTIMEZONE
BEGIN:VEVENT
DTSTART;TZID=Asia/Tokyo:20240711T123000
DTEND;TZID=Asia/Tokyo:20240711T140000
DTSTAMP:20260421T210721
CREATED:20231208T075055Z
LAST-MODIFIED:20240704T051916Z
UID:10000576-1720701000-1720706400@ceoinsights.org
SUMMARY:What Every CEO Should Be Doing (WECSBD)
DESCRIPTION:Leading a company is just as varying as the companies in their various industries.  The approach to sales\, staffing\, performance\, and office environments can vary drastically.  However\, despite the various business models and practices\, there are still some fundamentals that cross industry boundaries whether you’re selling consulting or manufacturing widgets.  To be successful\, it’s important for the CEO to be spending time ‘on the floor’\, in the office\, with the management team\, and especially with his or her customers.\n\nIn the July\, CEO Insights lunch\, you will have the opportunity to run with the champions in business.  You will be discussing how to better keep your finger on the finances of the business by better understanding your financial metrics\, annual revenue growth rate\, annual gross margin\, and the importance of operating cash.  In addition\, you will cover the soft areas such as people\, marketing\, leveraging the local bank\, and other\n\nThe role of CEO is the golden ticket for many corporate leaders: the ultimate prize that fuels years\, if not decades\, of relentless dedication and hard work. But despite their preparations\, most new CEOs are shocked by the visibility\, complexity and responsibility that comes with the corner office.\n\nJoin us for this private interactive lunch with peer CEOs from leading firms in Japan and around the globe.
URL:https://ceoinsights.org/event/july-ci-network-lunch/
LOCATION:Roppongi Hills Club- Roppongi Hills Club- Italian Restaurant- La Cucina\, 51 fl. Roppongi Hills Mori Tower\, 6-10-1 Roppongi\, Minato-ku\, Tokyo\, 106-6151
ATTACH;FMTTYPE=image/jpeg:https://ceoinsights.org/wp-content/uploads/2023/02/img_2520.jpg
END:VEVENT
END:VCALENDAR