BEGIN:VCALENDAR
VERSION:2.0
PRODID:-//CEO Insights Executive Group - ECPv6.15.11//NONSGML v1.0//EN
CALSCALE:GREGORIAN
METHOD:PUBLISH
X-WR-CALNAME:CEO Insights Executive Group
X-ORIGINAL-URL:https://ceoinsights.org
X-WR-CALDESC:Events for CEO Insights Executive Group
REFRESH-INTERVAL;VALUE=DURATION:PT1H
X-Robots-Tag:noindex
X-PUBLISHED-TTL:PT1H
BEGIN:VTIMEZONE
TZID:Asia/Tokyo
BEGIN:STANDARD
TZOFFSETFROM:+0900
TZOFFSETTO:+0900
TZNAME:JST
DTSTART:20240101T000000
END:STANDARD
END:VTIMEZONE
BEGIN:VEVENT
DTSTART;TZID=Asia/Tokyo:20250925T180000
DTEND;TZID=Asia/Tokyo:20250925T203000
DTSTAMP:20260424T225322
CREATED:20250806T012127Z
LAST-MODIFIED:20250807T040137Z
UID:10000604-1758823200-1758832200@ceoinsights.org
SUMMARY:2025 Sayonara Summer BBQ @ ARK HILLS SOUTH TOWER
DESCRIPTION:Life is not just about knowing people\, it’s about knowing good people. There’s no beating the quality of CEO Insights members and our guests around a table. As an executive\, it can be lonely at the top and CI fills that void. As we close out and say “sayonara” to summer 2025\, we want to give an extra opportunity for our CI groups to get to know each other. The evening of September 25th\, we will break away from our regular luncheons and have arranged a special event. \nThis evening of strictly food and networking gives members a chance to catch up with fellow CEOs after a relaxing summer break. \nPlease sign up early as space is limited to the first 20 CEOs to sign up. \nCEO Insights – Sayonara Summer Barbecue (SS BBQ) \nWhen: Thursday\, September 25th\, 6:00pm – 8:30pm.\nWhere: ARK HILLS SOUTH TOWER ROOFTOP LOUNGE\nCost: 10\,800 yen / person\nRSVP: CI Support Team \n※Payments can be made by card only at the venue.Due to catering arrangements\, cancellations will not be accepted after Monday\, September 22nd \nIf you have any questions\, please feel free to contact us. team@ceoinsights.org.
URL:https://ceoinsights.org/event/2025-sayonara-summer-bbq-ark-hills-south-tower-rooftop-lounge-roppongi-bbq-beer-garden/
LOCATION:ARK HILLS SOUTH TOWER ROOFTOP LOUNGE\, 1-4-5 Roppongi\, Minato-ku\, Tokyo Ark Hills South Tower Rooftop Sky Park\, Tokyo\, 106-0032\, Japan
END:VEVENT
END:VCALENDAR