BEGIN:VCALENDAR
VERSION:2.0
PRODID:-//CEO Insights Executive Group - ECPv6.15.11//NONSGML v1.0//EN
CALSCALE:GREGORIAN
METHOD:PUBLISH
X-ORIGINAL-URL:https://ceoinsights.org
X-WR-CALDESC:Events for CEO Insights Executive Group
REFRESH-INTERVAL;VALUE=DURATION:PT1H
X-Robots-Tag:noindex
X-PUBLISHED-TTL:PT1H
BEGIN:VTIMEZONE
TZID:Asia/Tokyo
BEGIN:STANDARD
TZOFFSETFROM:+0900
TZOFFSETTO:+0900
TZNAME:JST
DTSTART:20240101T000000
END:STANDARD
END:VTIMEZONE
BEGIN:VEVENT
DTSTART;TZID=Asia/Tokyo:20251211T003000
DTEND;TZID=Asia/Tokyo:20251211T140000
DTSTAMP:20260422T114439
CREATED:20241217T052016Z
LAST-MODIFIED:20251114T083804Z
UID:10000602-1765413000-1765461600@ceoinsights.org
SUMMARY:2025 - Year End Wrap Up - Better Boss \, Better Business
DESCRIPTION:As yet another year closes\, many executive offices are reviewing what worked and what didn’t\, what sold and what didn’t\, what blew up and what overflowed. In addition to national responsibility\, many of our member CEOs have other countries in Asia as well as Australia/New Zealand reporting to them. Growth is about reflecting on management mistakes as well as building management successes. \nThe December CEO Insights meetings is one of the most popular and well attended meetings as executives get ready for the Christmas holidays and year’s end. This will be likely be your last chance to rub elbows with Asia’s top Tokyo-based CEOs and leadership.
URL:https://ceoinsights.org/event/december-ci-network-lunch-2/
LOCATION:Roppongi Hills Club- Roppongi Hills Club- Italian Restaurant- La Cucina\, 51 fl. Roppongi Hills Mori Tower\, 6-10-1 Roppongi\, Minato-ku\, Tokyo\, 106-6151
END:VEVENT
BEGIN:VEVENT
DTSTART;TZID=Asia/Tokyo:20260115T123000
DTEND;TZID=Asia/Tokyo:20260115T140000
DTSTAMP:20260422T114439
CREATED:20241220T025002Z
LAST-MODIFIED:20251222T012406Z
UID:10000603-1768480200-1768485600@ceoinsights.org
SUMMARY:12 Decisions That Will Define Your Next 12 Months
DESCRIPTION:CEOs do not always get the chance to get away and re-think their businesses\, organizations\, or even projects.  CEO Insights members are different because they have a group of peer that are best in class. \nJoin Tokyo’s best curated group of CEOs for an exclusive lunch session designed to help leaders step back\, reflect\, and intentionally plan for the year ahead. This interactive discussion will focus on setting clear targets\, defining meaningful goals\, and aligning objectives that drive both business performance and personal leadership effectiveness. Away from day-to-day pressures\, this session will create space for strategic thinking and peer-level insight. \nThrough guided conversation\, practical frameworks\, and shared experiences\, CEOs will leave with renewed clarity\, sharper priorities\, and a simple planning approach they can immediately apply. Whether refining growth targets\, realigning teams\, or resetting personal leadership rhythms\, this lunch session offers a valuable opportunity to start the new year with focus\, confidence\, and purpose. \nPlanning the Year Ahead: A CEO Lunch Session on Focus\, Clarity\, and Execution
URL:https://ceoinsights.org/event/january-ci-network-lunch-3/
LOCATION:The Oak Door Steakhouse\, 6th Floor Grand Hyatt Tokyo\, 6-10-3 Roppongi\, Minato\, Tokyo\, 106-0032\, Japan
END:VEVENT
BEGIN:VEVENT
DTSTART;TZID=Asia/Tokyo:20260219T123000
DTEND;TZID=Asia/Tokyo:20260219T140000
DTSTAMP:20260422T114439
CREATED:20251216T021118Z
LAST-MODIFIED:20260130T011203Z
UID:10000606-1771504200-1771509600@ceoinsights.org
SUMMARY:Human Resources - Rewarding Your Team- Implementing Incentive Plans The Work
DESCRIPTION:Incentives and Performance: Aligning Pay with Outcomes \nIncentive structures vary across industries\, reflecting differences in business models\, risk profiles\, and growth horizons. Some organizations prioritize short-term performance rewards\, while others emphasize incentives linked to operational excellence\, innovation\, or long-term value creation. \nFor CEOs\, incentive design plays a central role in translating strategy into execution. Incentive systems determine what gets prioritized\, how trade-offs are managed under pressure\, and how decisions are made across the organization. They influence accountability\, collaboration\, and risk-taking\, shaping how performance is pursued in practice. \nIn the February CEO Insights Luncheon\, we will discuss: \n• Designing incentive plans that align with enterprise strategy\n• Balancing short-term performance with long-term outcomes\n• Recognizing how incentive structures influence priorities\, decision patterns\, and risk appetite\n \nWe are pleased to welcome Ken Cogger\, Managing Director\, Deputy Head of HR\, and Global Head of Talent Management at Amova Asset Management\, as our guest speaker. Ken has held senior HR leadership roles across Japan and the Asia-Pacific region and works closely with executive teams on performance management and incentive frameworks that support performance\, accountability\, and long-term enterprise outcomes.
URL:https://ceoinsights.org/event/february-ci-network-lunch-2/
LOCATION:Roppongi Hills Club- Roppongi Hills Club- Italian Restaurant- La Cucina\, 51 fl. Roppongi Hills Mori Tower\, 6-10-1 Roppongi\, Minato-ku\, Tokyo\, 106-6151
END:VEVENT
BEGIN:VEVENT
DTSTART;TZID=Asia/Tokyo:20260312T123000
DTEND;TZID=Asia/Tokyo:20260312T140000
DTSTAMP:20260422T114439
CREATED:20251216T021251Z
LAST-MODIFIED:20260218T002207Z
UID:10000607-1773318600-1773324000@ceoinsights.org
SUMMARY:The Never Ending Fight Against Ransomware
DESCRIPTION:Days of sending fax messages and messages via postal services are long gone. The world has gone digital\, and the world has gone internet. If you are using email\, video calling\, a smart phone\, or anything else that connects to the internet you are at risk of being compromised. If you are managing a business or managing any organization you are also exposed to that risk. One email\, one click on one rogue URL and your team has just been neutralized by one action of one person with one device in your organization. This is the typical discovery bosses make about the risks of not thinking about cyber security. Ransomware is the biggest threat to an operation of our generation. \nIn the March CEO Insights network meeting we will welcome Mr. Cartan McLaughlin of Nihon Cyber Defense. This company deals every day with cyber security challenges their customers have. In this meeting we will focus specifically on ransomware as it is something every company will eventually experience. \n• What does good look like and what does bad look like with an attack?\n• To pay or not to pay\n• The benefits of negotiating with the attackers \nCI members will receive the inside scoop and be ready to deal with a situation before it happens. In addition\, you will receive a sample Daily Ransomware Update to review showing that each company has different exposures as well as fundamental things the CEO must be aware of. \nMore On Our Guest CEO-\nCartan McLaughlin is the founder and CEO of Nihon Cyber Defence (NCD); a Japan based cyber security company. NCD brings US and UK cyber expertise to the Cyber market in Japan/Asia. \nCartan has worked for 30 years in Japan in the Financial Technology and Cyber Security Sectors. He started as a programmer working on strategic projects such as the Tokyo and Osaka Stock Exchange moves to electronic trading. He then moved into the financial sector\, delivering secure applications in banking systems and has developed expertise in the security technology surrounding SWIFT and international payments systems. \nHe has worked with nearly all the major Japanese financial groups both in head offices and their international branches\, implementing technology solutions across the world.
URL:https://ceoinsights.org/event/march-ci-network-lunch-3/
LOCATION:Roppongi Hills Club- Roppongi Hills Club- Italian Restaurant- La Cucina\, 51 fl. Roppongi Hills Mori Tower\, 6-10-1 Roppongi\, Minato-ku\, Tokyo\, 106-6151
END:VEVENT
BEGIN:VEVENT
DTSTART;TZID=Asia/Tokyo:20260409T123000
DTEND;TZID=Asia/Tokyo:20260409T140000
DTSTAMP:20260422T114439
CREATED:20251216T021445Z
LAST-MODIFIED:20260218T065159Z
UID:10000608-1775737800-1775743200@ceoinsights.org
SUMMARY:From Cold Caller to CEO: Building New Markets
DESCRIPTION:It is not every day that someone starts with a cold call to a famous hometown brand and ends up as a global leader in their executive team. \nAs a young Austrian with a passion for judo and an eye for opportunity\, he reached out to a company founded in 1756 to spark their interest in developing their business in Japan. They had a local partner\, but the market was tiny and the numbers were just not there. The brand had heritage\, but no momentum. \nThe company took a chance on him. That decision led to over three decades of sustained growth built on careful judgment\, market insight\, persistence and the courage to act early. \nToday\, as CEO of Riedel Japan\, Wolfgang Angyal is well known in the industry\, but few know the back story behind that journey. \nAt the April CI meeting\, you may be among the few to hear his candid account of how he scaled a heritage brand in Japan and went on to launch it in 26 countries across five continents. We will cover: \n・From unknown to industry leader\n・Finding the right distribution and marketing strategies\n・Driving product adoption to meet untapped markets \nA rare behind the scenes look at long term brand building\, market creation\, and the decisions that make growth stick.
URL:https://ceoinsights.org/event/april-ci-network-lunch-3/
LOCATION:Roppongi Hills Club- Roppongi Hills Club- Italian Restaurant- La Cucina\, 51 fl. Roppongi Hills Mori Tower\, 6-10-1 Roppongi\, Minato-ku\, Tokyo\, 106-6151
END:VEVENT
BEGIN:VEVENT
DTSTART;TZID=Asia/Tokyo:20260514T123000
DTEND;TZID=Asia/Tokyo:20260514T140000
DTSTAMP:20260422T114439
CREATED:20251216T021613Z
LAST-MODIFIED:20260319T033152Z
UID:10000609-1778761800-1778767200@ceoinsights.org
SUMMARY:Disruption & Discovery of New Markets: The American Express Japan Story
DESCRIPTION:Across industries—whether exploring for energy resources\, developing hospitality ventures\, or launching new financial products—the role of the executive C-suite is fundamentally the same: to grow the business. Some growth opportunities emerge as true blue-ocean innovations\, as seen in web search and social media companies. Others are discovered closer to home—by recognizing unmet needs or redefining existing markets that are hiding in plain sight. \nThis May\, we will explore how American Express Japan has successfully navigated this challenge through strategic market discovery and business transformation. American Express has evolved its Japan business from a primarily consumer-focused B2C model into a significantly larger and more sophisticated B2B-driven growth engine. The scale and performance of the Japan operation point to strong leadership and disciplined execution in one of the world’s most competitive financial markets. \nOur discussion will cover: \n• Strategies for increasing B2B spend and engagement\n• The future of the super-affluent and global traveler market \nCEO Insights members will welcome Mr. Yasuhiro Sudo\, Senior Vice President and Country Manager for American Express Japan. A 35-year veteran of American Express\, Mr. Sudo joined the company as a university graduate and has built deep expertise across operations\, finance\, and customer-facing sales leadership—giving him a rare\, end-to-end perspective on the organization and its growth strategy.\nYou can find his LinkedIn page here. \n  \nThis meeting is OFF THE RECORD
URL:https://ceoinsights.org/event/may-ci-network-lunch-3/
LOCATION:Roppongi Hills Club- Roppongi Hills Club- Italian Restaurant- La Cucina\, 51 fl. Roppongi Hills Mori Tower\, 6-10-1 Roppongi\, Minato-ku\, Tokyo\, 106-6151
END:VEVENT
BEGIN:VEVENT
DTSTART;TZID=Asia/Tokyo:20260611T123000
DTEND;TZID=Asia/Tokyo:20260611T140000
DTSTAMP:20260422T114439
CREATED:20251216T021724Z
LAST-MODIFIED:20260422T021156Z
UID:10000610-1781181000-1781186400@ceoinsights.org
SUMMARY:What CEOs Need to Understand About Healthcare in Japan
DESCRIPTION:Health and fitness is a recurring theme at our CEO Insights meetings — because a healthy team is a productive team\, and every CEO needs a solid grasp of how to keep their people (and their business) running well. \nFor our June CEO Insights lunch\, we’re pleased to welcome Dr. Kenji Taylor\, a US-trained family medicine physician practicing in Japan. The session will introduce a few of the most common healthcare questions that come up for executives in Japan including the ningen dock\, mental health\, and key differences between Japanese and US medical practice. The format will be an interactive discussion between our member CEOs and Dr. Kenji.\nDr. Kenji will give a brief overview of the topics below\, followed by open discussion. Please feel free to submit questions or areas of particular interest in advance. \nNingen dock (the annual physical) — how to extract real value from these services\nMental health — why it matters and how to keep your team well \nAbout Dr. Taylor\nDr. Kenji Taylor is a Japanese-African American family medicine physician with a background spanning medicine\, public health\, and business. He holds a AB\, ScB and MSc from Brown University in East Asian Studies\, Neuroengineering\, and Entrepreneurship. He first connected with Japan as an exchange student at Keio University. After a few years in finance\, he earned his MD at the University of Pennsylvania\, taking a year off to work with the CDC on maternal-child HIV programs in Africa. He completed residency and chief residency in Family and Community Medicine at UCSF\, followed by a health policy fellowship at Stanford\, where he later joined the faculty. \nFive years ago\, Dr. Taylor moved to Japan to work with the US Department of Defense in Zama before founding Torii Health\, a practice serving the American military-connected community in Japan. He also serves as a medical director and consultant for health systems and healthtech startups\, and teaches Japanese physicians-in-training at Kameda Medical Center.\nHe and his wife\, also American\, are part of the growing American immigrant community in Japan\, raising three young children navigating a new language and culture. He is passionate about addressing health disparities and applying systems-level thinking to complex problems. \n 
URL:https://ceoinsights.org/event/june-ci-network-lunch-2/
LOCATION:Roppongi Hills Club- Roppongi Hills Club- Italian Restaurant- La Cucina\, 51 fl. Roppongi Hills Mori Tower\, 6-10-1 Roppongi\, Minato-ku\, Tokyo\, 106-6151
END:VEVENT
BEGIN:VEVENT
DTSTART;TZID=Asia/Tokyo:20260709T123000
DTEND;TZID=Asia/Tokyo:20260709T140000
DTSTAMP:20260422T114439
CREATED:20251216T022011Z
LAST-MODIFIED:20251216T022011Z
UID:10000611-1783600200-1783605600@ceoinsights.org
SUMMARY:July CI Network Lunch
DESCRIPTION:TO BE DETERMINED
URL:https://ceoinsights.org/event/july-ci-network-lunch-3/
END:VEVENT
BEGIN:VEVENT
DTSTART;TZID=Asia/Tokyo:20260820T123000
DTEND;TZID=Asia/Tokyo:20260820T140000
DTSTAMP:20260422T114439
CREATED:20251216T022200Z
LAST-MODIFIED:20251216T022200Z
UID:10000612-1787229000-1787234400@ceoinsights.org
SUMMARY:August CI Network Lunch
DESCRIPTION:TO BE DETERMINED
URL:https://ceoinsights.org/event/august-ci-network-lunch-3/
END:VEVENT
BEGIN:VEVENT
DTSTART;TZID=Asia/Tokyo:20260910T123000
DTEND;TZID=Asia/Tokyo:20260910T140000
DTSTAMP:20260422T114439
CREATED:20251216T022326Z
LAST-MODIFIED:20251216T022326Z
UID:10000613-1789043400-1789048800@ceoinsights.org
SUMMARY:September CI Network Lunch
DESCRIPTION:TO BE DETERMINED
URL:https://ceoinsights.org/event/september-ci-network-lunch-3/
END:VEVENT
BEGIN:VEVENT
DTSTART;TZID=Asia/Tokyo:20261008T123000
DTEND;TZID=Asia/Tokyo:20261008T140000
DTSTAMP:20260422T114439
CREATED:20251216T022546Z
LAST-MODIFIED:20251216T022546Z
UID:10000614-1791462600-1791468000@ceoinsights.org
SUMMARY:October CI Network Lunch
DESCRIPTION:TO BE DETERMINED
URL:https://ceoinsights.org/event/october-ci-network-lunch-3/
END:VEVENT
BEGIN:VEVENT
DTSTART;TZID=Asia/Tokyo:20261112T123000
DTEND;TZID=Asia/Tokyo:20261112T140000
DTSTAMP:20260422T114439
CREATED:20251216T023507Z
LAST-MODIFIED:20251216T023507Z
UID:10000615-1794486600-1794492000@ceoinsights.org
SUMMARY:November CI Network Lunch
DESCRIPTION:TO BE DETERMINED
URL:https://ceoinsights.org/event/november-ci-network-lunch-3/
END:VEVENT
BEGIN:VEVENT
DTSTART;TZID=Asia/Tokyo:20261210T123000
DTEND;TZID=Asia/Tokyo:20261210T140000
DTSTAMP:20260422T114439
CREATED:20251216T023654Z
LAST-MODIFIED:20251216T024612Z
UID:10000616-1796905800-1796911200@ceoinsights.org
SUMMARY:December CI Network Lunch
DESCRIPTION:TO BE DETERMINED
URL:https://ceoinsights.org/event/december-ci-network-lunch-3/
END:VEVENT
END:VCALENDAR