BEGIN:VCALENDAR
VERSION:2.0
PRODID:-//CEO Insights Executive Group - ECPv6.15.11//NONSGML v1.0//EN
CALSCALE:GREGORIAN
METHOD:PUBLISH
X-ORIGINAL-URL:https://ceoinsights.org
X-WR-CALDESC:Events for CEO Insights Executive Group
REFRESH-INTERVAL;VALUE=DURATION:PT1H
X-Robots-Tag:noindex
X-PUBLISHED-TTL:PT1H
BEGIN:VTIMEZONE
TZID:Asia/Tokyo
BEGIN:STANDARD
TZOFFSETFROM:+0900
TZOFFSETTO:+0900
TZNAME:JST
DTSTART:20220101T000000
END:STANDARD
END:VTIMEZONE
BEGIN:VEVENT
DTSTART;TZID=Asia/Tokyo:20230808T123000
DTEND;TZID=Asia/Tokyo:20230808T140000
DTSTAMP:20260421T162725
CREATED:20230711T014515Z
LAST-MODIFIED:20230711T014515Z
UID:10000562-1691497800-1691503200@ceoinsights.org
SUMMARY:Investor's Lunch Discussion- Japan's Hottest Investment Areas
DESCRIPTION:Many companies spend money on development\, training\, production facilities and various other areas of their businesses to bring growth.  As a c-level\, many of us see investment from the corporate perspective.  Investing is corporate\, but it can also be personal.  In the August CEO Insights meeting we will have an interactive lunch discussing investment successes and failures both in business and personally.  This meeting will be an invaluable opportunity to talk about real estate\, precious metals\, the financial markets\, acquistion\, and many other areas of investments.  We will be joined by C. James Lee\, Managing Partner of GI Capital Management who is looking forward to hearing your experiences and sharing some of his own. \nMore about Jim Lee- \nPrior to establishing GI Capital in 2010\, Jim was co-heading the Equities Division for Deutsche Bank Japan as a Managing Director. Before joining Deutsche Bank Japan\, Jim spent four years at UBS Japan managing the Japanese equities sales business as a Managing Director. He also worked for Goldman Sachs for 13 years\, both in Japan and in the U.S.\, managing the Japanese cash equity business as a Managing Director. Jim also spent two years working for the Bank of Tokyo Ltd. in New York. Jim received a BA degree in International Relations from Tufts University in 1984\, and an MBA degree from Columbia Business School in 1988.
URL:https://ceoinsights.org/event/investors-lunch-discussion-japans-hottest-investment-areas/
LOCATION:Roppongi Hills Club – Restaurants\, 51F Roppongi Hills Mori Tower\, 6-10-1 Roppongi\, Minato-ku\, Tokyo\, 106-6151\, Japan
END:VEVENT
END:VCALENDAR