BEGIN:VCALENDAR
VERSION:2.0
PRODID:-//CEO Insights Executive Group - ECPv6.15.11//NONSGML v1.0//EN
CALSCALE:GREGORIAN
METHOD:PUBLISH
X-ORIGINAL-URL:https://ceoinsights.org
X-WR-CALDESC:Events for CEO Insights Executive Group
REFRESH-INTERVAL;VALUE=DURATION:PT1H
X-Robots-Tag:noindex
X-PUBLISHED-TTL:PT1H
BEGIN:VTIMEZONE
TZID:Asia/Tokyo
BEGIN:STANDARD
TZOFFSETFROM:+0900
TZOFFSETTO:+0900
TZNAME:JST
DTSTART:20230101T000000
END:STANDARD
END:VTIMEZONE
BEGIN:VEVENT
DTSTART;TZID=Asia/Tokyo:20240411T123000
DTEND;TZID=Asia/Tokyo:20240411T140000
DTSTAMP:20260421T012003
CREATED:20231208T073524Z
LAST-MODIFIED:20240201T023353Z
UID:10000573-1712838600-1712844000@ceoinsights.org
SUMMARY:Sustaining Corporate Triumph Through Effective Communication Strategies
DESCRIPTION:In any organization communication breakdowns can silently undermine the powerful enterprises. In this engaging session we navigate the pivotal role of communication in establishing strong foundations for lasting prosperity. \n  \nOur focus will be on reinforcing communication within the organization across three layers; \n1) Bridging the gap between top management and staff members\, \n2) Cultivating seamless and open communication across different departments; and \n3) Optimizing communication flows between managers and their team members. \n  \nBy examining real world examples\, we will gain insight into how enhancing communication can help companies avoid pitfalls like Groupthink\, Team Errors and Process Errors that can impede effectiveness. By participating in this session\, you’ll be introduced proven techniques of Organizational Psychology to address these challenges effectively while reinforcing healthy and effective decision making throughout the hierarchy. \n  \nThis session will involve an open\, dynamic exchange of thoughts and ideas among participants\, about tailoring communication strategies to your business structures and goals. \n  \nJoin our collaborative learning journey to discover how robust internal communication lies at the core of any resilient\, successful company! \n  \nDr. Makiko Kuramoto\, founder and Managing Director of FUMI Consulting\, is an expert in Organizational\, Cultural\, and Developmental psychology. Recognized for her extensive publications\, she integrates insights from these fields\, along with her professional experience\, to develop tailored solutions that empower individuals and organizations to thrive. FUMI Consulting stands out through its glowing client testimonials\, enriching learning experiences\, and customized solutions meticulously aligned with each client’s unique needs and goals. Dr. Kuramoto also serves as a lecturer at Keio University and Aoyama Gakuin University.
URL:https://ceoinsights.org/event/april-ci-network-lunch/
LOCATION:Roppongi Hills Club- Roppongi Hills Club- Italian Restaurant- La Cucina\, 51 fl. Roppongi Hills Mori Tower\, 6-10-1 Roppongi\, Minato-ku\, Tokyo\, 106-6151
END:VEVENT
BEGIN:VEVENT
DTSTART;TZID=Asia/Tokyo:20240419T083000
DTEND;TZID=Asia/Tokyo:20240419T083000
DTSTAMP:20260421T012003
CREATED:20240402T045046Z
LAST-MODIFIED:20240402T045404Z
UID:10000585-1713515400-1713515400@ceoinsights.org
SUMMARY:Tee Up for Our April 2024 Charity Golf Extravaganz
DESCRIPTION:Time & Location\n\n\n19 Apr 2024\, 8:30 am GMT+9 \nTsutsujigaoka County Club\, 1570 Itakurachō\, Ashikaga\, Tochigi 326-0102\, Japan \n\n\n\nAbout the event\n\n\nThe Carbine Club of Tokyo is delighted to announce that it is holding its second Charity Golf Day on Friday\, 19 April\, 2024. Like the successful inaugural event\, it will be at the prestigious Tsutsujigaoka Country Club in Tochigi Prefecture. This time\, we are doubling the number of players to 88 (in 22 teams). \n  \nThis fund raiser will again be for Unleash Potential\, a nonprofit organization that supports thousands of disabled children around Japan. \n  \nA special game format means players of all skill levels can get involved*. You can form a four-player team or sign up solo. \n* The Texas Scrambleformat is for teams of four players. In each team\, all members all hit off. The team plays from the best shot to finish the hole. Each member has to contribute at least four tee shots. Also\, a player can’t take more than two shots in a row\, so experienced and novice golfers alike get a fair go. \nA number of great prizes will be up for grabs from our sponsors. They include tickets to Okinawa with Jetstar\, hotel stays\, restaurant dinners\, and premium wines. There will also be some great locker gifts. \nThe price is 25\,000 yen per person for green fees\, beverages\, and food (including a post-game BBQ). Add another 6\,000 yen (for 31\,000 yen all up for the day) if you want to take one of the 2 buses. One from Shibuya and back the other from TAC/Hobgoblin and back. \nWe will send regular updates on the event to registered players. \nSee you at the course! \nClick here and book your ticket
URL:https://ceoinsights.org/event/tee-up-for-our-april-2024-charity-golf-extravaganz/
LOCATION:Tsutsujigaoka County Club\, 1570 Itakurachō\, Ashikaga\, Tochigi 326-0102\, Japan\, Tsutsujigaoka County Club\, 1570 Itakurachō\, Ashikaga\, Tochigi 326-0102\, Japan\, Japan
END:VEVENT
BEGIN:VEVENT
DTSTART;TZID=Asia/Tokyo:20240425T183000
DTEND;TZID=Asia/Tokyo:20240425T203000
DTSTAMP:20260421T012003
CREATED:20240412T023802Z
LAST-MODIFIED:20240412T035014Z
UID:10000586-1714069800-1714077000@ceoinsights.org
SUMMARY:Spring Reception at Oris Watches Ginza
DESCRIPTION:Oris Big Crown Pro Pilot\nSpring has sprung! It’s time to get out and enjoy Tokyo and others in the c-suite.  In April\, we’ll be celebrating Spring in central Tokyo at the showroom of Oris Watches in Tokyo’s Ginza shopping district.  Oris is an independent watchmaker from Holstein Switzerland established in 1904.  Oris has kindly offered to sponsor the food and drink for this event.  You can see all their time pieces on the 1st floor\, and enjoy networking with other business professionals on the 2rd floor reception area.  The reception will begin at 630pm. \nThis event is limited to members of the CEO Insights Network\, and Watchmen Investors Group. \nWe look forward to seeing you there! \n*There is no charge for this event. However\, you must be registered to attend.\n**Special thanks to ORIS for sponsoring this event! \n  \n 
URL:https://ceoinsights.org/event/spring-reception-at-oris-watches-ginza/
LOCATION:オリス銀座ブティック Oris Boutique Ginza\, Tokyo\, 4-3-14 Ginza\, Chuo-ku\, Tokyo\, 104-0061\, Japan
END:VEVENT
END:VCALENDAR