BEGIN:VCALENDAR
VERSION:2.0
PRODID:-//CEO Insights Executive Group - ECPv6.15.11//NONSGML v1.0//EN
CALSCALE:GREGORIAN
METHOD:PUBLISH
X-WR-CALNAME:CEO Insights Executive Group
X-ORIGINAL-URL:https://ceoinsights.org
X-WR-CALDESC:Events for CEO Insights Executive Group
REFRESH-INTERVAL;VALUE=DURATION:PT1H
X-Robots-Tag:noindex
X-PUBLISHED-TTL:PT1H
BEGIN:VTIMEZONE
TZID:Asia/Tokyo
BEGIN:STANDARD
TZOFFSETFROM:+0900
TZOFFSETTO:+0900
TZNAME:JST
DTSTART:20240101T000000
END:STANDARD
END:VTIMEZONE
BEGIN:VEVENT
DTSTART;TZID=Asia/Tokyo:20251106T183000
DTEND;TZID=Asia/Tokyo:20251106T203000
DTSTAMP:20260422T093155
CREATED:20250926T021741Z
LAST-MODIFIED:20251106T064756Z
UID:10000605-1762453800-1762461000@ceoinsights.org
SUMMARY:An Evening At ORIS Watches In Ginza
DESCRIPTION:Watch lovers unite!  We are pleased to announce that we be holding an event at ORIS watch company’s Ginza flagship Japan boutique.\n This will be a join event with CI and the Watchmen Investors group exploring the latest collections from ORIS\, networking with other business executives\, and learning more about watches and this 12-13B USD global marketplace annually. \n\nDate: Thursday\, 6th November\, from 18:30 to 20:30\nParticipants: Limited to first 15 people.\nFood & Drinks: Finger food and beverages provided\nProgram: Presentation of the new ORIS Autumn–Winter collections.\nSpecial Corner: Selected items offered at special prices (close-out sale).\nExtra:Watchmakers from the ORIS Japan Service local partner will be showing the inside of these timepieces and give hints about horology.
URL:https://ceoinsights.org/event/a-evening-at-oris-watches-in-ginza/
LOCATION:オリス銀座ブティック Oris Boutique Ginza\, Tokyo\, 4-3-14 Ginza\, Chuo-ku\, Tokyo\, 104-0061\, Japan
END:VEVENT
BEGIN:VEVENT
DTSTART;TZID=Asia/Tokyo:20251119T003000
DTEND;TZID=Asia/Tokyo:20251119T140000
DTSTAMP:20260422T093155
CREATED:20241217T052033Z
LAST-MODIFIED:20251113T074412Z
UID:10000601-1763512200-1763560800@ceoinsights.org
SUMMARY:The New Takaichi Administration- Where Is Japan Heading?
DESCRIPTION:Japan is certainly on the list of top destinations for international tourism recently. But the moderate climate both economically and seasonally has more appeal to people around the globe. With the fall of Hong Kong as a global market center\, Singapore had been the last one standing. Japan\, has the potential\, with the governor of Tokyo promoting it\, to be a economic and geopolitical center for commerce\, culture\, and regional leadership. \nIn the November CEO Insights luncheon\, we will be discussing the changes in the political environment\, the economic changes\, and most importantly the potential cultural changes that may affect our businesses. How will the new Prime Minister affect life in Japan and how will it trickle out around the region. Things like- \n・How will Japan fuel its economic growth while preserving it’s culture with foreign born labor?\n・Will the Muslim Kurds take over Kawaguchi and create a Caliphate beachhead in North Asia?\n・Does Japan have gaijin fatigue that will trigger a stricter environment? \nThis month\, you will get a birds eye view as to where business is going in the land of the rising sun. \nAbout the Speaker:\nMaya Matsuoka is the Founder and Managing Director of Japan Expert Insights\, a firm that helps global organizations and leaders navigate Japan’s cultural and business landscape with clarity and confidence. With over 25 years of experience in Japanese and multinational organizations\, Maya brings a combination of strategic insight and cultural fluency to her work. She advises executives and corporate teams on building trust\, leading effectively\, and communicating across cultures in ways that resonate within Japanese organizations. \nThrough the Japan Expert Insights podcast which features thought leaders from business\, politics and academia\, Maya creates spaces for dialogue between the Japanese and global business communities. \nBoth a skeptic and an optimist\, she brings curiosity\, candor\, and insight to conversations\, challenging assumptions and encouraging others to turn complexity into opportunity for success. \nA life-long learner\, Maya holds two Master’s degrees – in Management of Tourism and Business Administration – and is preparing to pursue doctoral research at the intersection of geopolitics and cross-cultural studies.\nYou can find her LinkedIn page here.
URL:https://ceoinsights.org/event/november-ci-network-lunch-2/
LOCATION:The Oak Door Steakhouse\, 6th Floor Grand Hyatt Tokyo\, 6-10-3 Roppongi\, Minato\, Tokyo\, 106-0032\, Japan
END:VEVENT
END:VCALENDAR