BEGIN:VCALENDAR
VERSION:2.0
PRODID:-//CEO Insights Executive Group - ECPv6.15.11//NONSGML v1.0//EN
CALSCALE:GREGORIAN
METHOD:PUBLISH
X-WR-CALNAME:CEO Insights Executive Group
X-ORIGINAL-URL:https://ceoinsights.org
X-WR-CALDESC:Events for CEO Insights Executive Group
REFRESH-INTERVAL;VALUE=DURATION:PT1H
X-Robots-Tag:noindex
X-PUBLISHED-TTL:PT1H
BEGIN:VTIMEZONE
TZID:Asia/Tokyo
BEGIN:STANDARD
TZOFFSETFROM:+0900
TZOFFSETTO:+0900
TZNAME:JST
DTSTART:20240101T000000
END:STANDARD
END:VTIMEZONE
BEGIN:VEVENT
DTSTART;TZID=Asia/Tokyo:20251211T003000
DTEND;TZID=Asia/Tokyo:20251211T140000
DTSTAMP:20260422T093215
CREATED:20241217T052016Z
LAST-MODIFIED:20251114T083804Z
UID:10000602-1765413000-1765461600@ceoinsights.org
SUMMARY:2025 - Year End Wrap Up - Better Boss \, Better Business
DESCRIPTION:As yet another year closes\, many executive offices are reviewing what worked and what didn’t\, what sold and what didn’t\, what blew up and what overflowed. In addition to national responsibility\, many of our member CEOs have other countries in Asia as well as Australia/New Zealand reporting to them. Growth is about reflecting on management mistakes as well as building management successes. \nThe December CEO Insights meetings is one of the most popular and well attended meetings as executives get ready for the Christmas holidays and year’s end. This will be likely be your last chance to rub elbows with Asia’s top Tokyo-based CEOs and leadership.
URL:https://ceoinsights.org/event/december-ci-network-lunch-2/
LOCATION:Roppongi Hills Club- Roppongi Hills Club- Italian Restaurant- La Cucina\, 51 fl. Roppongi Hills Mori Tower\, 6-10-1 Roppongi\, Minato-ku\, Tokyo\, 106-6151
END:VEVENT
END:VCALENDAR