BEGIN:VCALENDAR
VERSION:2.0
PRODID:-//CEO Insights Executive Group - ECPv6.15.11//NONSGML v1.0//EN
CALSCALE:GREGORIAN
METHOD:PUBLISH
X-ORIGINAL-URL:https://ceoinsights.org
X-WR-CALDESC:Events for CEO Insights Executive Group
REFRESH-INTERVAL;VALUE=DURATION:PT1H
X-Robots-Tag:noindex
X-PUBLISHED-TTL:PT1H
BEGIN:VTIMEZONE
TZID:Asia/Tokyo
BEGIN:STANDARD
TZOFFSETFROM:+0900
TZOFFSETTO:+0900
TZNAME:JST
DTSTART:20170101T000000
END:STANDARD
END:VTIMEZONE
BEGIN:VEVENT
DTSTART;TZID=Asia/Tokyo:20180726T183000
DTEND;TZID=Asia/Tokyo:20180726T203000
DTSTAMP:20260422T130345
CREATED:20171226T062753Z
LAST-MODIFIED:20180718T075857Z
UID:10000448-1532629800-1532637000@ceoinsights.org
SUMMARY:Summer OTR at Ginza Hyatt Centric
DESCRIPTION:BACK BY POPULAR DEMAND!\n\nFor the Summer OTR\, we’ll be meeting again at the Hyatt Centric in Ginza. \nOTR gathering of CEO Insights (CI) bosses with be held once more at the new Ginza Hyatt Hotel. Get a chance to see this new concept hotel called “Hyatt Centric Ginza”. As usual\, this OTR will be a joint event bringing together of CI member CEOs and other invited c-level friends. You’ll be greeted with a welcome champagne and then enjoy a evening of discussion\, drinks\, and great food.  Don’t miss us for the chance to catch up with Asia’s top CEOs. \nThis is a casual meeting but DO respond to the Doodle survey so we can give the venue an idea of about how may people will be there. \nWe’re just minutes walk from the Ginza Metro station. See you there! \n\nAbout OTR\nCEO Insights is Japan’s prime gathering of c-levels for sharing experience\, connections\, and insights from the c suite at our monthly lunches. From 2017\, we’ve added a new way to network and grow personally through random Thursday night dinners that are completely open to discussion amongst our member CEOs called OTR (Off The Record).\nUnlike other events\, there are no pre-planned topics or private rooms. The meeting is a joint meeting of all groups and will give people a chance to get to know other bosses in an open restaurant dinner environment.\nPlease arrive between 6.30PM to 7PM and enjoy dinner with people you can relate to; slip away when you like. OTR is scheduled from 6.30PM to 8PM\, but will go on until bosses retire for the evening.
URL:https://ceoinsights.org/event/otr-q3/
LOCATION:Hyatt Centric Ginza\, 6-6-7 Ginza\, Chuo-ku\,Tokyo\, Japan\, 104-0061\, +81 3 6837 1234\, Japan
END:VEVENT
BEGIN:VEVENT
DTSTART;TZID=Asia/Tokyo:20180426T183000
DTEND;TZID=Asia/Tokyo:20180426T203000
DTSTAMP:20260422T130345
CREATED:20171226T062145Z
LAST-MODIFIED:20180409T070147Z
UID:10000440-1524767400-1524774600@ceoinsights.org
SUMMARY:OTR (Q2) - Enjoy the Spring OTR at Ginza's New Hyatt Hotel
DESCRIPTION:The Spring OTR gathering of CEO Insights (CI) bosses with be held at the new Ginza Hyatt Hotel. Get a chance to see this new concept hotel called “Hyatt Centric Ginza”. As usual\, this OTR will be a joint event bringing together of CI member CEOs and other invited c-level friends. You’ll be greeted with a welcome champagne and then enjoy a evening of discussion\, drinks\, and great food. Don’t miss us for the chance to catch up with Asia’s top CEOs. \nThis is a casual meeting but do respond to the Doodle survey so we can give the venue an idea of about how may people will be there. \nJust minutes walk from the Ginza Metro station. See you there! \nAbout OTR\nCEO Insights is Japan’s prime gathering of c-levels for sharing experience\, connections\, and insights from the c suite at our monthly lunches. From 2017\, we’ve added a new way to network and grow personally through random Thursday night dinners that are completely open to discussion amongst our member CEOs called OTR (Off The Record).\nUnlike other events\, there are no pre-planned topics or private rooms. The meeting is a joint meeting of all groups and will give people a chance to get to know other bosses in an open restaurant dinner environment.\nPlease arrive between 6.30PM to 7PM and enjoy dinner with people you can relate to; slip away when you like. OTR is scheduled from 6.30PM to 8PM\, but will go on until bosses retire for the evening.
URL:https://ceoinsights.org/event/otr-q2/
LOCATION:Hyatt Centric Ginza\, 6-6-7 Ginza\, Chuo-ku\,Tokyo\, Japan\, 104-0061\, +81 3 6837 1234\, Japan
END:VEVENT
END:VCALENDAR